BEGIN:VCALENDAR
VERSION:2.0
PRODID:-//Flight Builders - ECPv6.3.3//NONSGML v1.0//EN
CALSCALE:GREGORIAN
METHOD:PUBLISH
X-WR-CALNAME:Flight Builders
X-ORIGINAL-URL:https://flight.builders
X-WR-CALDESC:Events for Flight Builders
REFRESH-INTERVAL;VALUE=DURATION:PT1H
X-Robots-Tag:noindex
X-PUBLISHED-TTL:PT1H
BEGIN:VTIMEZONE
TZID:America/New_York
BEGIN:DAYLIGHT
TZOFFSETFROM:-0500
TZOFFSETTO:-0400
TZNAME:EDT
DTSTART:20250309T070000
END:DAYLIGHT
BEGIN:STANDARD
TZOFFSETFROM:-0400
TZOFFSETTO:-0500
TZNAME:EST
DTSTART:20251102T060000
END:STANDARD
END:VTIMEZONE
BEGIN:VEVENT
DTSTART;TZID=America/New_York:20250201T070000
DTEND;TZID=America/New_York:20250201T080000
DTSTAMP:20260420T041758
CREATED:20250114T151103Z
LAST-MODIFIED:20250114T151103Z
UID:10000015-1738393200-1738396800@flight.builders
SUMMARY:February: Morning Mind & Movement
DESCRIPTION:Join our first Morning Mind and Movement of the year on 01.11.25 at 7 AM.  \nStart your day with an energizing Sunrise HITT Workout led by SoniakFit followed by a guided meditation. \nBring a friend\, sign up online\, and let’s crush those goals together! 
URL:https://flight.builders/event/february-morning-mind-movement-2/
LOCATION:On the beach behind Lemon Bar\, 2 Lemon St\, Neptune Beach\, Florida\, 32266
ATTACH;FMTTYPE=image/png:https://flight.builders/wp-content/uploads/2025/01/Copy-of-M3-Post.png
END:VEVENT
BEGIN:VEVENT
DTSTART;TZID=America/New_York:20250208T110000
DTEND;TZID=America/New_York:20250208T140000
DTSTAMP:20260420T041758
CREATED:20250122T221918Z
LAST-MODIFIED:20250205T174612Z
UID:10000017-1739012400-1739023200@flight.builders
SUMMARY:Flight Homes Open House Block Party
DESCRIPTION:Where: 3406 Plateau St\, Jacksonville\, FL 32206 \nWhen: Saturday\, February 8th\, 11 AM – 2 PM \nWe are back with another Flight Block Party  Why rent when you can own? Come learn how you can purchase this Flight Home with little to no money down. \nDon’t forget we have more upcoming builds\, ranging from $199\,000 to $475\,000. We hope to see you there! \nWe can’t wait to see you there!
URL:https://flight.builders/event/flight-homes-open-house-block-party/
LOCATION:Flight Homes Open House Block Party\, 3406 Plateau St\, Jacksonville\,\, FL\, 32206\, United States
ATTACH;FMTTYPE=image/png:https://flight.builders/wp-content/uploads/2025/01/FLIGHT-BLOCK-PARTY.png
END:VEVENT
BEGIN:VEVENT
DTSTART;TZID=America/New_York:20250220T100000
DTEND;TZID=America/New_York:20250220T120000
DTSTAMP:20260420T041758
CREATED:20250203T150656Z
LAST-MODIFIED:20250203T150656Z
UID:10000018-1740045600-1740052800@flight.builders
SUMMARY:You're Invited: Grand Opening & Ribbon Cutting Ceremony
DESCRIPTION:We’re excited to announce the grand opening of Flight Builders. \nTo celebrate this exciting milestone\, we would love for you to join us for our Ribbon Cutting Ceremony and open house event. \nDate: Thursday\, February 20th\, 2025\nTime: 10:00 AM – 12:00 PM\nLocation: 2144 Roselle St Jacksonville\, Fl 32204 \nWhat’s Happening: \nRibbon Cutting Ceremony\nAt 10:00 AM sharp\, we’ll kick things off with a ribbon cutting to officially mark the beginning of Flight Builders’ journey. Come be part of the moment! \nOffice Tour\nAfter the ceremony\, join us for an exclusive tour of our new office! Get an inside look at our innovative workspace and meet the team that’s shaping the future of construction. \nRefreshments & Celebration\nWe’ll have champagne\, mimosas\, and a coffee & bagel bar to keep the celebration going. Whether you’re raising a glass or enjoying a warm drink\, it’s a great chance to mingle with other professionals and local supporters. \nGiveaways & Prizes\nAs a thank you for celebrating with us\, we’ll be offering exclusive giveaways and a raffle for amazing prizes. You won’t want to miss it! \nWe would love to have you there to share in this special occasion. Please RSVP by clicking the link below so we can reserve your spot!
URL:https://flight.builders/event/youre-invited-grand-opening-ribbon-cutting-ceremony/
LOCATION:Flight Builders Grand Opening\, 2144 Rosselle Street\, Jacksonville\, 32204\, United States
ATTACH;FMTTYPE=image/jpeg:https://flight.builders/wp-content/uploads/2025/02/unnamed.jpg
END:VEVENT
END:VCALENDAR