BEGIN:VCALENDAR
VERSION:2.0
PRODID:-//Flight Builders - ECPv6.3.3//NONSGML v1.0//EN
CALSCALE:GREGORIAN
METHOD:PUBLISH
X-WR-CALNAME:Flight Builders
X-ORIGINAL-URL:https://flight.builders
X-WR-CALDESC:Events for Flight Builders
REFRESH-INTERVAL;VALUE=DURATION:PT1H
X-Robots-Tag:noindex
X-PUBLISHED-TTL:PT1H
BEGIN:VTIMEZONE
TZID:America/New_York
BEGIN:DAYLIGHT
TZOFFSETFROM:-0500
TZOFFSETTO:-0400
TZNAME:EDT
DTSTART:20250309T070000
END:DAYLIGHT
BEGIN:STANDARD
TZOFFSETFROM:-0400
TZOFFSETTO:-0500
TZNAME:EST
DTSTART:20251102T060000
END:STANDARD
END:VTIMEZONE
BEGIN:VEVENT
DTSTART;TZID=America/New_York:20250220T100000
DTEND;TZID=America/New_York:20250220T120000
DTSTAMP:20260424T035402
CREATED:20250203T150656Z
LAST-MODIFIED:20250203T150656Z
UID:10000018-1740045600-1740052800@flight.builders
SUMMARY:You're Invited: Grand Opening & Ribbon Cutting Ceremony
DESCRIPTION:We’re excited to announce the grand opening of Flight Builders. \nTo celebrate this exciting milestone\, we would love for you to join us for our Ribbon Cutting Ceremony and open house event. \nDate: Thursday\, February 20th\, 2025\nTime: 10:00 AM – 12:00 PM\nLocation: 2144 Roselle St Jacksonville\, Fl 32204 \nWhat’s Happening: \nRibbon Cutting Ceremony\nAt 10:00 AM sharp\, we’ll kick things off with a ribbon cutting to officially mark the beginning of Flight Builders’ journey. Come be part of the moment! \nOffice Tour\nAfter the ceremony\, join us for an exclusive tour of our new office! Get an inside look at our innovative workspace and meet the team that’s shaping the future of construction. \nRefreshments & Celebration\nWe’ll have champagne\, mimosas\, and a coffee & bagel bar to keep the celebration going. Whether you’re raising a glass or enjoying a warm drink\, it’s a great chance to mingle with other professionals and local supporters. \nGiveaways & Prizes\nAs a thank you for celebrating with us\, we’ll be offering exclusive giveaways and a raffle for amazing prizes. You won’t want to miss it! \nWe would love to have you there to share in this special occasion. Please RSVP by clicking the link below so we can reserve your spot!
URL:https://flight.builders/event/youre-invited-grand-opening-ribbon-cutting-ceremony/
LOCATION:Flight Builders Grand Opening\, 2144 Rosselle Street\, Jacksonville\, 32204\, United States
ATTACH;FMTTYPE=image/jpeg:https://flight.builders/wp-content/uploads/2025/02/unnamed.jpg
END:VEVENT
END:VCALENDAR